BEGIN:VCALENDAR
VERSION:2.0
PRODID:-//Courageous Kids - ECPv6.15.20//NONSGML v1.0//EN
CALSCALE:GREGORIAN
METHOD:PUBLISH
X-ORIGINAL-URL:https://courageouskidsmi.org
X-WR-CALDESC:Events for Courageous Kids
REFRESH-INTERVAL;VALUE=DURATION:PT1H
X-Robots-Tag:noindex
X-PUBLISHED-TTL:PT1H
BEGIN:VTIMEZONE
TZID:UTC
BEGIN:STANDARD
TZOFFSETFROM:+0000
TZOFFSETTO:+0000
TZNAME:UTC
DTSTART:20210101T000000
END:STANDARD
END:VTIMEZONE
BEGIN:VEVENT
DTSTART;TZID=UTC:20250103T190000
DTEND;TZID=UTC:20250103T220000
DTSTAMP:20260423T162318
CREATED:20250106T181726Z
LAST-MODIFIED:20250106T181726Z
UID:1427-1735930800-1735941600@courageouskidsmi.org
SUMMARY:Pistons Game
DESCRIPTION:  \nCome watch a Pistons game with Courageous Kids on Friday\, January 3rd\, 2025 at 7:00 PM\nArrive between 6:15-6:30
URL:https://courageouskidsmi.org/events/pistons-game/
LOCATION:Little Caeasars Arena\, 2645 Woodward Ave\, Detroit\, 48201\, United States
CATEGORIES:Family Event
ATTACH;FMTTYPE=image/png:https://courageouskidsmi.org/wp-content/uploads/2024/03/Pistons.png
ORGANIZER;CN="Courageous Kids":MAILTO:jamiem@courageouskidsmi.org
END:VEVENT
BEGIN:VEVENT
DTSTART;TZID=UTC:20241124T130000
DTEND;TZID=UTC:20241124T150000
DTSTAMP:20260423T162318
CREATED:20250106T181305Z
LAST-MODIFIED:20250106T181305Z
UID:1425-1732453200-1732460400@courageouskidsmi.org
SUMMARY:Bowling
DESCRIPTION:Join us for an afternoon of bowling\, food and arcade at \nRevel & Roll from \n1:00-3:00 pm on\nSunday\, November 24th\n 
URL:https://courageouskidsmi.org/events/bowling-2/
LOCATION:Revel and Roll\, 1950 S. Industrail\, Ann Arbor\, MI\, 48104\, United States
CATEGORIES:Family Event
ATTACH;FMTTYPE=image/jpeg:https://courageouskidsmi.org/wp-content/uploads/2024/04/Bowling.jpg
ORGANIZER;CN="Courageous Kids":MAILTO:jamiem@courageouskidsmi.org
END:VEVENT
BEGIN:VEVENT
DTSTART;TZID=UTC:20241124T130000
DTEND;TZID=UTC:20241124T150000
DTSTAMP:20260423T162318
CREATED:20241113T164946Z
LAST-MODIFIED:20241113T164946Z
UID:1412-1732453200-1732460400@courageouskidsmi.org
SUMMARY:Bowling
DESCRIPTION:Join us for an\nafternoon of bowling\, \nfood and arcade at \nRevel & Roll from \n1:00-3:00 pm on \nSunday\, November 24th
URL:https://courageouskidsmi.org/events/bowling/
LOCATION:Revel and Roll\, 1950 S. Industrail\, Ann Arbor\, MI\, 48104\, United States
ATTACH;FMTTYPE=image/jpeg:https://courageouskidsmi.org/wp-content/uploads/2022/04/Bowling.jpg
ORGANIZER;CN="Courageous Kids":MAILTO:jamiem@courageouskidsmi.org
END:VEVENT
BEGIN:VEVENT
DTSTART;TZID=UTC:20241102T113000
DTEND;TZID=UTC:20241102T170000
DTSTAMP:20260423T162318
CREATED:20241113T164425Z
LAST-MODIFIED:20241113T164425Z
UID:1410-1730547000-1730566800@courageouskidsmi.org
SUMMARY:Henry Ford Museum- Kids Event
DESCRIPTION:Come join us for a day at the Henry Ford Museum\n \n\nSaturday\, November 2nd\, 2024\nMeet in the front at 12:00 PM\nFood provided in the lunchroom at 1:00 PM \nStep into a world where past innovations fuel the imagination of generations to come. A vibrant exploration of genius in all its forms\, Henry Ford Museum of American Innovation allows you to experience the strides of America’s greatest minds while fully immersing yourself in their stories. Step inside the bus where Rosa Parks took a standby taking a seat. Play pilot as you explore flight innovations\, starting with the Wright brothers’ achievements\, or make yourself at home inside Buckminster Fuller’s circular Dymaxion House. Put yourself in the place of the movers and shakers who blazed the trail to where we stand today. And in doing so\, discover your own path.
URL:https://courageouskidsmi.org/events/henry-ford-museum-kids-event-2/
LOCATION:Henry Ford\, 20900 Oakwood Blvd\, Dearborn\, MI\, 48124\, United States
CATEGORIES:Family Event
ATTACH;FMTTYPE=image/jpeg:https://courageouskidsmi.org/wp-content/uploads/2023/01/Henry-Ford-pic.jpg
ORGANIZER;CN="Courageous Kids":MAILTO:jamiem@courageouskidsmi.org
END:VEVENT
BEGIN:VEVENT
DTSTART;TZID=UTC:20241006T130000
DTEND;TZID=UTC:20241006T170000
DTSTAMP:20260423T162318
CREATED:20241007T173544Z
LAST-MODIFIED:20241007T173623Z
UID:1382-1728219600-1728234000@courageouskidsmi.org
SUMMARY:Debuck's Family Farm-Family Event
DESCRIPTION:We continue to provide the best fall entertainment since 2009. We are a family farm owned by 2 generations of DeBuck’s. We offer 15 acres of corn maze\, 20 acres of pumpkins and so much more. \n\nSuper Slide\nSwings\nJump Pad\nCorn Box\nDouble Trouble Slide and much More\n\n\n\n\n\n\n\n\n\n\n\n\n\n\n\n\n\n\nJoin us on Sunday\, October 6th from \n1:00 pm-5:00 pm at Debucks Corn \nMaze and Pumpkin Patch \n\nEverybody needs to have a waiver filled out beforehand. I will email them to you after you register.There are pumpkins to purchase if you wish\nDonuts and cider provided by Courageous Kids \n\n50240 Martz Rd.\nBelleville\, MI 48111
URL:https://courageouskidsmi.org/events/debucks-family-farm-family-event/
LOCATION:Debucks\, 50240 Martz Rd.\, Belleville\, MI\, 48111\, United States
CATEGORIES:Family Event
ATTACH;FMTTYPE=image/jpeg:https://courageouskidsmi.org/wp-content/uploads/2022/10/debucks5.jpg
ORGANIZER;CN="Courageous Kids":MAILTO:jamiem@courageouskidsmi.org
END:VEVENT
BEGIN:VEVENT
DTSTART;TZID=UTC:20240930T080000
DTEND;TZID=UTC:20240930T170000
DTSTAMP:20260423T162318
CREATED:20240930T193832Z
LAST-MODIFIED:20240930T193844Z
UID:1371-1727683200-1727715600@courageouskidsmi.org
SUMMARY:Picnic at Scarlet's Park
DESCRIPTION:  \n  \n  \nJoin us on Sunday\,\nSeptember 29th at \nScarlet’s Smile \nPlayground\, a barrier \nfree playground for all. \n12:00 pm-2:30 pmThere will be sandwiches\, chips and drinks provided \n\n 
URL:https://courageouskidsmi.org/events/picnic-at-scarlets-park/
ATTACH;FMTTYPE=image/jpeg:https://courageouskidsmi.org/wp-content/uploads/2024/09/download-18.jpg
END:VEVENT
BEGIN:VEVENT
DTSTART;TZID=UTC:20240728T130500
DTEND;TZID=UTC:20240728T170000
DTSTAMP:20260423T162318
CREATED:20240711T203829Z
LAST-MODIFIED:20240729T212338Z
UID:1308-1722171900-1722186000@courageouskidsmi.org
SUMMARY:Jimmy John's baseball game-family event
DESCRIPTION:Join us for an afternoon of baseball fun!\nWhen: July 28th\nTime: Game starts at 1:05 pm\, please arrive at 12:30 \nThere will be food vouchers attached to each ticket to purchase food at the concessions\n\n\n\n\n\n\n\n\n\n\n\n\n\n\n\n\n\n\n\n\n\n\n\n\n\n\n\n\n\n\nCourageous Kids will have the opportunity for our kids to high-five the players as they are coming through the tunnel
URL:https://courageouskidsmi.org/events/jimmy-johns-baseball-game-family-event/
LOCATION:Jimmy John’s Fielld\, 7171 Auburn Rd\, Utica\, 48317\, United States
CATEGORIES:Family Event
ATTACH;FMTTYPE=image/jpeg:https://courageouskidsmi.org/wp-content/uploads/2023/06/Jimmy-Johns-event.jpg
ORGANIZER;CN="Courageous Kids":MAILTO:jamiem@courageouskidsmi.org
END:VEVENT
BEGIN:VEVENT
DTSTART;TZID=UTC:20240608T120000
DTEND;TZID=UTC:20240608T170000
DTSTAMP:20260423T162318
CREATED:20240416T170041Z
LAST-MODIFIED:20240416T170041Z
UID:1239-1717848000-1717866000@courageouskidsmi.org
SUMMARY:13th Annual Golf for Courage
DESCRIPTION:Click below for Registration and Sponsorship \n13th Annual Golf for Courage (redpodium.com)
URL:https://courageouskidsmi.org/events/13th-annual-golf-for-courage/
LOCATION:Salem Hills Golf Course\, 8810 Six Mile Rd.\, Northville\, MI\, 48168\, United States
ORGANIZER;CN="Courageous Kids":MAILTO:jamiem@courageouskidsmi.org
END:VEVENT
BEGIN:VEVENT
DTSTART;TZID=UTC:20240527T080000
DTEND;TZID=UTC:20240527T170000
DTSTAMP:20260423T162318
CREATED:20240527T174139Z
LAST-MODIFIED:20240527T174220Z
UID:1272-1716796800-1716829200@courageouskidsmi.org
SUMMARY:Greenfield Village-Family Event
DESCRIPTION:Join us on Sunday\, June 2nd at 11:30 at Greenfield Village \n20900 Oakwood Blvd \nDearborn\, MI
URL:https://courageouskidsmi.org/events/greenfield-village-family-event/
ATTACH;FMTTYPE=image/jpeg:https://courageouskidsmi.org/wp-content/uploads/2022/03/th.jpg
END:VEVENT
BEGIN:VEVENT
DTSTART;TZID=UTC:20240518T130000
DTEND;TZID=UTC:20240518T130000
DTSTAMP:20260423T162318
CREATED:20240510T170246Z
LAST-MODIFIED:20240510T170246Z
UID:1263-1716037200-1716037200@courageouskidsmi.org
SUMMARY:Reptarium
DESCRIPTION:Come join us for a day\nof fun visiting The \nReptarium. We will \nhave a 1 hour guided \ntour of the reptile facility. \nWhen: May 18th\nTime: 1:00 p.m.-2:00 p.m.\nLocation: Reptarium\n45559 Van Dyke Ave\nUitca\, MI 48317
URL:https://courageouskidsmi.org/events/reptarium/
LOCATION:Reptarium\, 45559 Van Dyke Ave\, Uitca\, MI\, 48317\, United States
CATEGORIES:Family Event
ATTACH;FMTTYPE=image/png:https://courageouskidsmi.org/wp-content/uploads/2024/05/Reptarium.png
ORGANIZER;CN="Courageous Kids":MAILTO:jamiem@courageouskidsmi.org
END:VEVENT
BEGIN:VEVENT
DTSTART;TZID=UTC:20240320T080000
DTEND;TZID=UTC:20240320T170000
DTSTAMP:20260423T162318
CREATED:20240320T171524Z
LAST-MODIFIED:20240320T171524Z
UID:1212-1710921600-1710954000@courageouskidsmi.org
SUMMARY:Pistons Game- Kid's event
DESCRIPTION:Come watch a Pistons game on Sunday\, March 17th at 3:00 PM
URL:https://courageouskidsmi.org/events/pistons-game-kids-event/
END:VEVENT
BEGIN:VEVENT
DTSTART;TZID=UTC:20240210T180000
DTEND;TZID=UTC:20240210T223000
DTSTAMP:20260423T162318
CREATED:20231227T175438Z
LAST-MODIFIED:20240108T171511Z
UID:1175-1707588000-1707604200@courageouskidsmi.org
SUMMARY:Celebration of Courage-A Night of Hope
DESCRIPTION:Registration \n  2024 Celebration of Courage Sponsorship (redpodium.com) \n 
URL:https://courageouskidsmi.org/events/celebration-of-courage-a-night-of-hope/
LOCATION:Fox Hills Golf and Banquet Center\, 8768 Territorial Rd.\, Plymouth\, MI\, 48111\, United States
ATTACH;FMTTYPE=image/png:https://courageouskidsmi.org/wp-content/uploads/2023/12/2024-COC-RegistrationSponsorship-3-1.png
ORGANIZER;CN="Courageous Kids":MAILTO:jamiem@courageouskidsmi.org
END:VEVENT
BEGIN:VEVENT
DTSTART;TZID=UTC:20240113T183000
DTEND;TZID=UTC:20240113T220000
DTSTAMP:20260423T162318
CREATED:20240108T172908Z
LAST-MODIFIED:20240108T172908Z
UID:1189-1705170600-1705183200@courageouskidsmi.org
SUMMARY:Motor City Cruise Basketball- Family Event
DESCRIPTION:  \nJoin us on Saturday\, January 13th at 7 pm for a Motor City Cruise basketball game\nThe Motor City Cruise are an American professional basketball team in the NBA G League based in Detroit\, and are affiliated with the Detroit Pistons. The Cruise play their home games at Wayne State Fieldhouse. \n1290 W Warren Ave\, Detroit\, MI 48201 
URL:https://courageouskidsmi.org/events/motor-city-cruise-basketball-family-event/
LOCATION:Motor City Cruise\, 1290 W. Warren Ave.\, Detroit\, MI\, 48201\, United States
ATTACH;FMTTYPE=image/png:https://courageouskidsmi.org/wp-content/uploads/2024/01/Motor-City.png
ORGANIZER;CN="Courageous Kids":MAILTO:jamiem@courageouskidsmi.org
END:VEVENT
BEGIN:VEVENT
DTSTART;TZID=UTC:20231216T190000
DTEND;TZID=UTC:20231216T210000
DTSTAMP:20260423T162318
CREATED:20231214T185552Z
LAST-MODIFIED:20231214T185608Z
UID:1158-1702753200-1702760400@courageouskidsmi.org
SUMMARY:USA Hockey-Family Event
DESCRIPTION:  \nJoin us on Saturday\, December 16th at 7:00 pm\n14900 Beck Rd.\nPlymouth\, MI 48170The Under-18 Team takes on Youngstown Phantoms at USA Hockey Arena for the annual Teddy Bear Toss! A teddy bear will be provided to everyone that attends. Show off your arm as you whip them onto the ice after Team USA’s first goal. All animals will be collected and donated to local families in time for the holidays.
URL:https://courageouskidsmi.org/events/usa-hockey-family-event/
LOCATION:USA Hockey\, 149000 N. Beck Rd.\, Plymouth\, MI\, 48170\, United States
CATEGORIES:Family Event
ATTACH;FMTTYPE=image/jpeg:https://courageouskidsmi.org/wp-content/uploads/2023/12/download-13.jpg
ORGANIZER;CN="Courageous Kids":MAILTO:jamiem@courageouskidsmi.org
END:VEVENT
BEGIN:VEVENT
DTSTART;TZID=UTC:20231015T120000
DTEND;TZID=UTC:20231015T170000
DTSTAMP:20260423T162318
CREATED:20231012T163717Z
LAST-MODIFIED:20231012T163806Z
UID:1149-1697371200-1697389200@courageouskidsmi.org
SUMMARY:Debuck's Pumpkin Farm- Kid's Event
DESCRIPTION:  \n\n\n\n\n\n\n\nWe continue to provide the best fall entertainment since 2009. We are a family farm owned by 2 generations of DeBuck’s. We offer 15 acres of corn maze\, 20 acres of pumpkins and so much more. \n\nSuper Slide\nSwings\nJump Pad\nCorn Box\nDouble Trouble Slide\nMuch More\n\n\n\n\n\n\n\n\n\n\n\n\n\n\n\n\n\nJoin us on Sunday\, October 15th from 12:00 pm-5:00 pm at Debucks Corn\n\n\n\n\n\n\n\n\n \n  \n 
URL:https://courageouskidsmi.org/events/debucks-pumpkin-farm-kids-event/
LOCATION:Debucks\, 50240 Martz Rd.\, Belleville\, MI\, 48111\, United States
ATTACH;FMTTYPE=image/jpeg:https://courageouskidsmi.org/wp-content/uploads/2022/10/debucks2.jpg
ORGANIZER;CN="Courageous Kids":MAILTO:jamiem@courageouskidsmi.org
END:VEVENT
BEGIN:VEVENT
DTSTART;TZID=UTC:20231015T120000
DTEND;TZID=UTC:20231015T170000
DTSTAMP:20260423T162318
CREATED:20231004T192357Z
LAST-MODIFIED:20231004T192357Z
UID:1146-1697371200-1697389200@courageouskidsmi.org
SUMMARY:Debuck's Pumpkin Patch- Family Event
DESCRIPTION:Join us on Sunday\, October 15th from 1:00 pm-5:00 pm at Debucks Corn\nMaze and Pumpkin Patch\n\nEverybody needs to have a waiver filled out beforehand. I will email them to you after you register.  \nThere are pumpkins to purchase if you wish\nDonuts and cider provided by Courageous Kids \n\n50240 Martz Rd.\nBelleville\, MI 48111\n\n\n\n\n\n\n\n\n\n\n\n\n\n\n\n\n\n\n\n\n\n\n\n  \n 
URL:https://courageouskidsmi.org/events/debucks-pumpkin-patch/
LOCATION:Debucks\, 50240 Martz Rd.\, Belleville\, MI\, 48111\, United States
ATTACH;FMTTYPE=image/jpeg:https://courageouskidsmi.org/wp-content/uploads/2022/10/debucks5.jpg
END:VEVENT
BEGIN:VEVENT
DTSTART;TZID=UTC:20230830T170000
DTEND;TZID=UTC:20230830T210000
DTSTAMP:20260423T162318
CREATED:20230815T211928Z
LAST-MODIFIED:20230815T211928Z
UID:1142-1693414800-1693429200@courageouskidsmi.org
SUMMARY:Sneak Peek State Fair- Family Event
DESCRIPTION:Come join Courageous kids at\nMichigan\n(Sneak Peek)\nState Fair\nAugust 30th\, 2023 from 5:30 pm-9:30pm\nPlease try to arrive early around 5:00 pmEach person will receive a wristband by the picnic tables right before the entrance \n 
URL:https://courageouskidsmi.org/events/sneak-peek-state-fair-family-event/
END:VEVENT
BEGIN:VEVENT
DTSTART;TZID=UTC:20230805T130000
DTEND;TZID=UTC:20230805T170000
DTSTAMP:20260423T162318
CREATED:20230815T211334Z
LAST-MODIFIED:20230815T211334Z
UID:1137-1691240400-1691254800@courageouskidsmi.org
SUMMARY:Reptarium-Family Event
DESCRIPTION:  \nCome join us for a day of fun visiting The Reptarium. We will have a 1 1/2 hour guided tour of the reptile facility.\nWhen: August 5th\nTime: 1:00 p.m.-2:30 p.m.\nLocation: Reptarium\n45559 Van Dyke Ave\nUitca\, MI 48317
URL:https://courageouskidsmi.org/events/reptarium-family-event/
LOCATION:Reptarium\, 45559 Van Dyke Ave\, Uitca\, MI\, 48317\, United States
END:VEVENT
BEGIN:VEVENT
DTSTART;TZID=UTC:20230625T120000
DTEND;TZID=UTC:20230625T170000
DTSTAMP:20260423T162318
CREATED:20230605T171748Z
LAST-MODIFIED:20230605T171748Z
UID:1123-1687694400-1687712400@courageouskidsmi.org
SUMMARY:Jimmy John's baseball day- Family Event
DESCRIPTION:Join us for an afternoon of baseball fun!\nWhen: June 25th\nTime: Game starts at 1:05\, please arrive at 12:15 \nThere will be food vouchers attached to each ticket to purchase food at the concessions. \n  \n 
URL:https://courageouskidsmi.org/events/jimmy-johns-baseball-day-family-event/
LOCATION:Jimmy John’s Fielld\, 7171 Auburn Rd\, Utica\, 48317\, United States
CATEGORIES:Family Event
ATTACH;FMTTYPE=image/jpeg:https://courageouskidsmi.org/wp-content/uploads/2023/06/Jimmy-Johns-event.jpg
ORGANIZER;CN="Courageous Kids":MAILTO:jamiem@courageouskidsmi.org
END:VEVENT
BEGIN:VEVENT
DTSTART;TZID=UTC:20230515T080000
DTEND;TZID=UTC:20230515T170000
DTSTAMP:20260423T162318
CREATED:20230515T182951Z
LAST-MODIFIED:20230515T182951Z
UID:1097-1684137600-1684170000@courageouskidsmi.org
SUMMARY:Greenfield Village- Kid's Event
DESCRIPTION:  \n  \n  \n  \n  \n  \n  \n  \n  \n\n\n\n\n\n\n\n\nJoin Us for …\nGreenfield VillageSaturday\, May 20th at 12:00 P.M. \nPlan to meet by the \nentrance for your tickets \nThere will be a $10 fun fee ticket for each person to use for food.\n\n\n\n\n\n\n\n\n \n  \n  \n 
URL:https://courageouskidsmi.org/events/greenfield-village-kids-event/
CATEGORIES:Family Event
ATTACH;FMTTYPE=image/jpeg:https://courageouskidsmi.org/wp-content/uploads/2023/05/Greenfield-Village.jpeg
END:VEVENT
BEGIN:VEVENT
DTSTART;TZID=UTC:20230418T080000
DTEND;TZID=UTC:20230418T170000
DTSTAMP:20260423T162318
CREATED:20230418T174431Z
LAST-MODIFIED:20230418T174431Z
UID:1085-1681804800-1681837200@courageouskidsmi.org
SUMMARY:12th Annual Celebration of Courage
DESCRIPTION:Come join us for our 12th Annual Celebration of Courage Golf Outing\nClick on the link below to registration or sponsorship.\n12th Annual Golf for Courage (redpodium.com) \n  \n 
URL:https://courageouskidsmi.org/events/12th-annual-celebration-of-courage/
ATTACH;FMTTYPE=image/png:https://courageouskidsmi.org/wp-content/uploads/2023/04/GFC-Facebook-Cover-Instagram-Profile-Picture.png
END:VEVENT
BEGIN:VEVENT
DTSTART;TZID=UTC:20230416T123000
DTEND;TZID=UTC:20230416T143000
DTSTAMP:20260423T162318
CREATED:20230320T174056Z
LAST-MODIFIED:20230320T174056Z
UID:1069-1681648200-1681655400@courageouskidsmi.org
SUMMARY:DNR- Outdoor Adventure Center - Family Event
DESCRIPTION:  \nJoin us at the Outdoor Adventure Center on Sunday\, April 16th from 12:30-2:30 \n1801 Atwater St. \nDetroit\, MI 48207
URL:https://courageouskidsmi.org/events/dnr-outdoor-adventure-center/
LOCATION:Outdoor Adventure Center\, 1801 Atwater Street\, Detroit\, MI\, 48207\, United States
CATEGORIES:Family Event
ATTACH;FMTTYPE=image/jpeg:https://courageouskidsmi.org/wp-content/uploads/2023/03/DNR-Museum.jpeg
ORGANIZER;CN="Courageous Kids":MAILTO:jamiem@courageouskidsmi.org
END:VEVENT
BEGIN:VEVENT
DTSTART;TZID=UTC:20230311T180000
DTEND;TZID=UTC:20230311T220000
DTSTAMP:20260423T162318
CREATED:20230108T203255Z
LAST-MODIFIED:20230112T000432Z
UID:1048-1678557600-1678572000@courageouskidsmi.org
SUMMARY:2023 Celebration of Courage
DESCRIPTION:Sponsorships Available \nRegistration
URL:https://courageouskidsmi.org/events/2023-celebration-of-courage/
LOCATION:Fox Hills Golf and Banquet Center\, 8768 Territorial Rd.\, Plymouth\, MI\, 48111\, United States
ATTACH;FMTTYPE=image/jpeg:https://courageouskidsmi.org/wp-content/uploads/2023/01/9th-Annual-1.jpg
ORGANIZER;CN="Courageous Kids":MAILTO:jamiem@courageouskidsmi.org
END:VEVENT
BEGIN:VEVENT
DTSTART;TZID=UTC:20230108T080000
DTEND;TZID=UTC:20230108T170000
DTSTAMP:20260423T162318
CREATED:20230108T202256Z
LAST-MODIFIED:20230108T202256Z
UID:1040-1673164800-1673197200@courageouskidsmi.org
SUMMARY:Henry Ford Museum-Kids event
DESCRIPTION:Come join us for a day at the Henry Ford Museum\nSunday\, January 15th\, 2023\nMeet in the front at 11:30\nFood provided in the lunchroom at 12:30Step into a world where past innovations fuel the imagination of generations to come. A vibrant exploration of genius in all its forms\, Henry Ford Museum of American Innovation allows you to experience the strides of America’s greatest minds while fully immersing yourself in their stories. Step inside the bus where Rosa Parks took a standby taking a seat. Play pilot as you explore flight innovations\, starting with the Wright brothers’ achievements\, or make yourself at home inside Buckminster Fuller’s circular Dymaxion House. Put yourself in the place of the movers and shakers who blazed the trail to where we stand today. And in doing so\, discover your own path.
URL:https://courageouskidsmi.org/events/henry-ford-museum-kids-event/
LOCATION:Henry Ford\, 20900 Oakwood Blvd\, Dearborn\, MI\, 48124\, United States
CATEGORIES:Family Event
ATTACH;FMTTYPE=image/jpeg:https://courageouskidsmi.org/wp-content/uploads/2023/01/Henry-Ford-pic.jpg
ORGANIZER;CN="Courageous Kids":MAILTO:jamiem@courageouskidsmi.org
END:VEVENT
BEGIN:VEVENT
DTSTART;TZID=UTC:20221216T190000
DTEND;TZID=UTC:20221216T220000
DTSTAMP:20260423T162318
CREATED:20221220T183933Z
LAST-MODIFIED:20221220T183933Z
UID:1033-1671217200-1671228000@courageouskidsmi.org
SUMMARY:Pistons Game-Family Event
DESCRIPTION:Come watch a Pistons game on Friday\, December 16th at 7:00 PM
URL:https://courageouskidsmi.org/events/pistons-game-family-event-2/
LOCATION:Little Caeasars Arena\, 2645 Woodward Ave\, Detroit\, 48201\, United States
CATEGORIES:Family Event
ATTACH;FMTTYPE=image/png:https://courageouskidsmi.org/wp-content/uploads/2022/12/1200px-Pistons_logo17.svg.png
END:VEVENT
BEGIN:VEVENT
DTSTART;TZID=UTC:20221105T080000
DTEND;TZID=UTC:20221105T170000
DTSTAMP:20260423T162318
CREATED:20221105T221051Z
LAST-MODIFIED:20221105T221051Z
UID:1020-1667635200-1667667600@courageouskidsmi.org
SUMMARY:Annual Appeal
DESCRIPTION:Today we are excited to kick off our $30K in 30 Days campaign!\nCourageous Kids is hoping to get 1\,000 people to donate $30 during the month of November. It is that simple!\nIts success is greatly dependent upon spreading the word.\nSo\, what can you do to help?\n1. If you are able\, please donate today!\n2. Share this post! Show your friends and family how you are #InspiringHope\, and ask them to share our campaign as well.\nSmall Actions by lots of people= BIG CHANGE\n#InspiringHope #30kIn30Days\n\nDonate below by clicking on the link or scan the QR code on the picture\n\n\n\nhttps://courageouskids.givingfuel.com/annual-appeal\n\n  \n 
URL:https://courageouskidsmi.org/events/annual-appeal/
CATEGORIES:Fundraisers
ATTACH;FMTTYPE=image/png:https://courageouskidsmi.org/wp-content/uploads/2022/11/30-for-30.png
END:VEVENT
BEGIN:VEVENT
DTSTART;TZID=UTC:20221009T130000
DTEND;TZID=UTC:20221009T170000
DTSTAMP:20260423T162318
CREATED:20221006T165534Z
LAST-MODIFIED:20221006T165534Z
UID:1007-1665320400-1665334800@courageouskidsmi.org
SUMMARY:Debucks Cornmaze and Pumpkin Patch-Family Event
DESCRIPTION:  \nJoin us on Sunday\, October 9th from 1:00 pm-5:00 pm at Debucks Corn\nMaze and Pumpkin Patch\nEverybody needs to have a waiver filled out beforehand\nwaiver-new.pdf (debuckssunflowerfarm.com)There are pumpkins to purchase if you wish\nDonuts and cider provided by Courageous Kids \n\n50240 Martz Rd.\nBelleville\, MI 48111
URL:https://courageouskidsmi.org/events/debucks-cornmaze-and-pumpkin-patch-family-event/
LOCATION:Debucks\, 50240 Martz Rd.\, Belleville\, MI\, 48111\, United States
ATTACH;FMTTYPE=image/jpeg:https://courageouskidsmi.org/wp-content/uploads/2022/10/debucks2.jpg
ORGANIZER;CN="Courageous Kids":MAILTO:jamiem@courageouskidsmi.org
END:VEVENT
BEGIN:VEVENT
DTSTART;TZID=UTC:20220919T113000
DTEND;TZID=UTC:20220919T170000
DTSTAMP:20260423T162318
CREATED:20220921T163700Z
LAST-MODIFIED:20220921T163700Z
UID:1002-1663587000-1663606800@courageouskidsmi.org
SUMMARY:Henry Ford Museum
DESCRIPTION:Come join us for a day at the Henry Ford Museum\nSunday\, September 18th\, 2022\nMeet in the front at 11:30\nFood provided in the lunchroom at 12:30Step into a world where past innovations fuel the imagination of generations to come. A vibrant exploration of genius in all its forms\, Henry Ford Museum of American Innovation allows you to experience the strides of America’s greatest minds while fully immersing yourself in their stories. Step inside the bus where Rosa Parks took a standby taking a seat. Play pilot as you explore flight innovations\, starting with the Wright brothers’ achievements\, or make yourself at home inside Buckminster Fuller’s circular Dymaxion House. Put yourself in the place of the movers and shakers who blazed the trail to where we stand today. And in doing so\, discover your own path.
URL:https://courageouskidsmi.org/events/henry-ford-museum/
LOCATION:Henry Ford\, 20900 Oakwood Blvd\, Dearborn\, MI\, 48124\, United States
CATEGORIES:Family Event
ATTACH;FMTTYPE=image/jpeg:https://courageouskidsmi.org/wp-content/uploads/2022/09/R.jpg
ORGANIZER;CN="Courageous Kids":MAILTO:jamiem@courageouskidsmi.org
END:VEVENT
BEGIN:VEVENT
DTSTART;TZID=UTC:20220831T170000
DTEND;TZID=UTC:20220831T210000
DTSTAMP:20260423T162318
CREATED:20220819T213230Z
LAST-MODIFIED:20220819T213230Z
UID:989-1661965200-1661979600@courageouskidsmi.org
SUMMARY:Sneak Peek State Fair- Kids Event
DESCRIPTION:Come join Courageous kids at\nMichigan\n(Sneak Peek)\nState Fair\nAugust 31\, 2022 from 5:30 pm-9:30pm\nPlease try to arrive early around 5:00 pmEach person will receive a wristband by the picnic tables right before the entrance\nAny questions can be answered by email jamiem@courageouskidsmi.org
URL:https://courageouskidsmi.org/events/sneak-peek-state-fair-kids-event/
LOCATION:Suburban Collection Showplace\, 46100 Grand River Ave.\, Novi\, 48374\, United States
CATEGORIES:Family Event
ATTACH;FMTTYPE=image/jpeg:https://courageouskidsmi.org/wp-content/uploads/2022/08/download-9.jpg
ORGANIZER;CN="Courageous Kids":MAILTO:jamiem@courageouskidsmi.org
END:VEVENT
BEGIN:VEVENT
DTSTART;TZID=UTC:20220807T123000
DTEND;TZID=UTC:20220807T163000
DTSTAMP:20260423T162318
CREATED:20220803T171802Z
LAST-MODIFIED:20220803T171802Z
UID:979-1659875400-1659889800@courageouskidsmi.org
SUMMARY:Tiger's Game- Kid's Event
DESCRIPTION:Join us August 7th for the Detroit Tiger’s Game against Tampa Bay Rays\n2100 Woodward Ave\nDetroit\, MI \nTime: 1:40 Start\, please arrive at 1:00\nEach ticket will have $10 preloaded for food\nPlease register immediate family only\n\nDownload the ParkWhiz app\, you can create an account and reserve a parking spot for a discount\n\n\n\nhttps://www.parkwhiz.com/ \nIt is important that everyone wears their Courageous Kids t-shirts to represent the organization. We like to take pictures to show the organization that provided a grant for us to purchase these tickets.
URL:https://courageouskidsmi.org/events/tigers-game-kids-event/
LOCATION:Comerica Park\, 2100 Woodward Avenue\, Detroit\, MI\, 48201\, United States
ATTACH;FMTTYPE=image/png:https://courageouskidsmi.org/wp-content/uploads/2022/08/1200px-Detroit_Tigers_logo.svg.png
ORGANIZER;CN="Courageous Kids":MAILTO:jamiem@courageouskidsmi.org
END:VEVENT
END:VCALENDAR